BEGIN:VCALENDAR
VERSION:2.0
PRODID:-//JCI Cebu - ECPv6.5.1.5//NONSGML v1.0//EN
CALSCALE:GREGORIAN
METHOD:PUBLISH
X-WR-CALNAME:JCI Cebu
X-ORIGINAL-URL:https://demo.jcicebu.org
X-WR-CALDESC:Events for JCI Cebu
REFRESH-INTERVAL;VALUE=DURATION:PT1H
X-Robots-Tag:noindex
X-PUBLISHED-TTL:PT1H
BEGIN:VTIMEZONE
TZID:Asia/Singapore
BEGIN:STANDARD
TZOFFSETFROM:+0800
TZOFFSETTO:+0800
TZNAME:+08
DTSTART:20230101T000000
END:STANDARD
END:VTIMEZONE
BEGIN:VEVENT
DTSTART;VALUE=DATE:20230210
DTEND;VALUE=DATE:20230214
DTSTAMP:20260426T062743
CREATED:20230202T151504Z
LAST-MODIFIED:20230202T151504Z
UID:2053-1675987200-1676332799@demo.jcicebu.org
SUMMARY:Opening the Gateway to JCI Growth and Development (APDC) in Boracay
DESCRIPTION:
URL:https://demo.jcicebu.org/event/opening-the-gateway-to-jci-growth-and-development-apdc-in-boracay/
LOCATION:Boracay\, Malay\, Aklan\, Philippines
CATEGORIES:Training
END:VEVENT
END:VCALENDAR