BEGIN:VCALENDAR
VERSION:2.0
PRODID:-//JCI Cebu - ECPv6.5.1.5//NONSGML v1.0//EN
CALSCALE:GREGORIAN
METHOD:PUBLISH
X-WR-CALNAME:JCI Cebu
X-ORIGINAL-URL:https://demo.jcicebu.org
X-WR-CALDESC:Events for JCI Cebu
REFRESH-INTERVAL;VALUE=DURATION:PT1H
X-Robots-Tag:noindex
X-PUBLISHED-TTL:PT1H
BEGIN:VTIMEZONE
TZID:Asia/Singapore
BEGIN:STANDARD
TZOFFSETFROM:+0800
TZOFFSETTO:+0800
TZNAME:+08
DTSTART:20230101T000000
END:STANDARD
END:VTIMEZONE
BEGIN:VEVENT
DTSTART;VALUE=DATE:20230224
DTEND;VALUE=DATE:20230225
DTSTAMP:20260426T062749
CREATED:20230202T151716Z
LAST-MODIFIED:20230202T151716Z
UID:2058-1677196800-1677283199@demo.jcicebu.org
SUMMARY:Induction of JCI Lakambini Davao
DESCRIPTION:
URL:https://demo.jcicebu.org/event/induction-of-jci-lakambini-davao/
CATEGORIES:Linkages
END:VEVENT
BEGIN:VEVENT
DTSTART;VALUE=DATE:20230224
DTEND;VALUE=DATE:20230225
DTSTAMP:20260426T062749
CREATED:20221027T122517Z
LAST-MODIFIED:20221027T122543Z
UID:1945-1677196800-1677283199@demo.jcicebu.org
SUMMARY:Induction of Cebu Lakan Bahaghari
DESCRIPTION:
URL:https://demo.jcicebu.org/event/induction-of-cebu-lakan-bahaghari/
CATEGORIES:Induction,Linkages
END:VEVENT
END:VCALENDAR