BEGIN:VCALENDAR
VERSION:2.0
PRODID:-//JCI Cebu - ECPv6.5.1.5//NONSGML v1.0//EN
CALSCALE:GREGORIAN
METHOD:PUBLISH
X-ORIGINAL-URL:https://demo.jcicebu.org
X-WR-CALDESC:Events for JCI Cebu
REFRESH-INTERVAL;VALUE=DURATION:PT1H
X-Robots-Tag:noindex
X-PUBLISHED-TTL:PT1H
BEGIN:VTIMEZONE
TZID:Asia/Singapore
BEGIN:STANDARD
TZOFFSETFROM:+0800
TZOFFSETTO:+0800
TZNAME:+08
DTSTART:20220101T000000
END:STANDARD
END:VTIMEZONE
BEGIN:VEVENT
DTSTART;TZID=Asia/Singapore:20231019T180000
DTEND;TZID=Asia/Singapore:20231019T220000
DTSTAMP:20260425T190937
CREATED:20231006T095339Z
LAST-MODIFIED:20231006T095339Z
UID:2345-1697738400-1697752800@demo.jcicebu.org
SUMMARY:1st BOD Meeting
DESCRIPTION:
URL:https://demo.jcicebu.org/event/1st-bod-meeting/
LOCATION:Hotel Pier Cuatro\, 3rd Street\, North Reclamation Area\, Cebu City\, Cebu\, 6000\, Philippines
CATEGORIES:BOD Meeting
END:VEVENT
BEGIN:VEVENT
DTSTART;VALUE=DATE:20230930
DTEND;VALUE=DATE:20231001
DTSTAMP:20260425T190937
CREATED:20240106T070506Z
LAST-MODIFIED:20240106T070544Z
UID:2367-1696032000-1696118399@demo.jcicebu.org
SUMMARY:JCI Cebu Strategic Planning
DESCRIPTION:
URL:https://demo.jcicebu.org/event/jci-cebu-strategic-planning/
CATEGORIES:BOD Meeting
END:VEVENT
BEGIN:VEVENT
DTSTART;VALUE=DATE:20220628
DTEND;VALUE=DATE:20220629
DTSTAMP:20260425T190937
CREATED:20220624T175212Z
LAST-MODIFIED:20220624T175212Z
UID:1515-1656374400-1656460799@demo.jcicebu.org
SUMMARY:CebVisNet Meeting
DESCRIPTION:
URL:https://demo.jcicebu.org/event/cebvisnet-meeting/
CATEGORIES:BOD Meeting
ATTACH;FMTTYPE=image/png:https://demo.jcicebu.org/wp-content/uploads/2022/06/JCI-PROJECT-24.png
END:VEVENT
BEGIN:VEVENT
DTSTART;VALUE=DATE:20220627
DTEND;VALUE=DATE:20220628
DTSTAMP:20260425T190937
CREATED:20220624T175005Z
LAST-MODIFIED:20220624T175005Z
UID:1512-1656288000-1656374399@demo.jcicebu.org
SUMMARY:Finance meeting
DESCRIPTION:
URL:https://demo.jcicebu.org/event/finance-meeting/
CATEGORIES:BOD Meeting
ATTACH;FMTTYPE=image/png:https://demo.jcicebu.org/wp-content/uploads/2022/06/JCI-PROJECT-3-1.png
END:VEVENT
BEGIN:VEVENT
DTSTART;VALUE=DATE:20220623
DTEND;VALUE=DATE:20220624
DTSTAMP:20260425T190937
CREATED:20220624T172440Z
LAST-MODIFIED:20220624T172440Z
UID:1498-1655942400-1656028799@demo.jcicebu.org
SUMMARY:BBQ party Training Bureau
DESCRIPTION:
URL:https://demo.jcicebu.org/event/bbq-party-training-bureau/
CATEGORIES:BOD Meeting
ATTACH;FMTTYPE=image/png:https://demo.jcicebu.org/wp-content/uploads/2022/06/JCI-PROJECT-18.png
END:VEVENT
BEGIN:VEVENT
DTSTART;VALUE=DATE:20220622
DTEND;VALUE=DATE:20220623
DTSTAMP:20260425T190937
CREATED:20220624T172158Z
LAST-MODIFIED:20220624T172158Z
UID:1495-1655856000-1655942399@demo.jcicebu.org
SUMMARY:Bidwriting Gameplan
DESCRIPTION:
URL:https://demo.jcicebu.org/event/bidwriting-gameplan/
CATEGORIES:BOD Meeting
ATTACH;FMTTYPE=image/png:https://demo.jcicebu.org/wp-content/uploads/2022/06/JCI-PROJECT-2-1.png
END:VEVENT
END:VCALENDAR