BEGIN:VCALENDAR
VERSION:2.0
PRODID:-//JCI Cebu - ECPv6.5.1.5//NONSGML v1.0//EN
CALSCALE:GREGORIAN
METHOD:PUBLISH
X-ORIGINAL-URL:https://demo.jcicebu.org
X-WR-CALDESC:Events for JCI Cebu
REFRESH-INTERVAL;VALUE=DURATION:PT1H
X-Robots-Tag:noindex
X-PUBLISHED-TTL:PT1H
BEGIN:VTIMEZONE
TZID:Asia/Singapore
BEGIN:STANDARD
TZOFFSETFROM:+0800
TZOFFSETTO:+0800
TZNAME:+08
DTSTART:20230101T000000
END:STANDARD
END:VTIMEZONE
BEGIN:VEVENT
DTSTART;VALUE=DATE:20230318
DTEND;VALUE=DATE:20230319
DTSTAMP:20260426T075039
CREATED:20221027T122919Z
LAST-MODIFIED:20221027T122919Z
UID:1957-1679097600-1679183999@demo.jcicebu.org
SUMMARY:Induction Mandaue
DESCRIPTION:
URL:https://demo.jcicebu.org/event/induction-mandaue/
CATEGORIES:Induction,Linkages
END:VEVENT
END:VCALENDAR