BEGIN:VCALENDAR
VERSION:2.0
PRODID:-//JCI Cebu - ECPv6.5.1.5//NONSGML v1.0//EN
CALSCALE:GREGORIAN
METHOD:PUBLISH
X-ORIGINAL-URL:https://demo.jcicebu.org
X-WR-CALDESC:Events for JCI Cebu
REFRESH-INTERVAL;VALUE=DURATION:PT1H
X-Robots-Tag:noindex
X-PUBLISHED-TTL:PT1H
BEGIN:VTIMEZONE
TZID:Asia/Singapore
BEGIN:STANDARD
TZOFFSETFROM:+0800
TZOFFSETTO:+0800
TZNAME:+08
DTSTART:20220101T000000
END:STANDARD
END:VTIMEZONE
BEGIN:VEVENT
DTSTART;VALUE=DATE:20221217
DTEND;VALUE=DATE:20221218
DTSTAMP:20260425T190803
CREATED:20221027T122313Z
LAST-MODIFIED:20221027T122313Z
UID:1941-1671235200-1671321599@demo.jcicebu.org
SUMMARY:Induction Tanauan Pasaka
DESCRIPTION:
URL:https://demo.jcicebu.org/event/induction-tanauan-pasaka/
CATEGORIES:Induction,Linkages
END:VEVENT
BEGIN:VEVENT
DTSTART;VALUE=DATE:20220929
DTEND;VALUE=DATE:20220930
DTSTAMP:20260425T190803
CREATED:20221011T105115Z
LAST-MODIFIED:20221011T105115Z
UID:1906-1664409600-1664495999@demo.jcicebu.org
SUMMARY:USAID Volunteering Programme Development and Management Launching Ceremony
DESCRIPTION:
URL:https://demo.jcicebu.org/event/usaid-volunteering-programme-development-and-management-launching-ceremony/
CATEGORIES:Linkages
END:VEVENT
BEGIN:VEVENT
DTSTART;VALUE=DATE:20220911
DTEND;VALUE=DATE:20220912
DTSTAMP:20260425T190803
CREATED:20220911T013213Z
LAST-MODIFIED:20220918T013250Z
UID:1826-1662854400-1662940799@demo.jcicebu.org
SUMMARY:JCI Cebu Hara Election
DESCRIPTION:
URL:https://demo.jcicebu.org/event/jci-cebu-hara-election/
CATEGORIES:Linkages
END:VEVENT
BEGIN:VEVENT
DTSTART;TZID=Asia/Singapore:20220910T080000
DTEND;TZID=Asia/Singapore:20220910T170000
DTSTAMP:20260425T190803
CREATED:20220910T013105Z
LAST-MODIFIED:20220918T013156Z
UID:1824-1662796800-1662829200@demo.jcicebu.org
SUMMARY:TOYM Launching - Dohera Hotel
DESCRIPTION:
URL:https://demo.jcicebu.org/event/toym-launching-dohera-hotel/
CATEGORIES:Linkages
END:VEVENT
BEGIN:VEVENT
DTSTART;VALUE=DATE:20220909
DTEND;VALUE=DATE:20220910
DTSTAMP:20260425T190803
CREATED:20220909T012746Z
LAST-MODIFIED:20220918T012902Z
UID:1820-1662681600-1662767999@demo.jcicebu.org
SUMMARY:Courtesy Call Mayor Rama
DESCRIPTION:
URL:https://demo.jcicebu.org/event/courtesy-call-mayor-rama/
CATEGORIES:Linkages
END:VEVENT
BEGIN:VEVENT
DTSTART;VALUE=DATE:20220731
DTEND;VALUE=DATE:20220801
DTSTAMP:20260425T190803
CREATED:20220704T105613Z
LAST-MODIFIED:20220704T105613Z
UID:1573-1659225600-1659311999@demo.jcicebu.org
SUMMARY:Himamat Night with JCI Anjung
DESCRIPTION:
URL:https://demo.jcicebu.org/event/himamat-night-with-jci-anjung/
CATEGORIES:Linkages
ATTACH;FMTTYPE=image/png:https://demo.jcicebu.org/wp-content/uploads/2022/06/JCI-PROJECT-4.png
END:VEVENT
BEGIN:VEVENT
DTSTART;VALUE=DATE:20220722
DTEND;VALUE=DATE:20220723
DTSTAMP:20260425T190803
CREATED:20220612T135437Z
LAST-MODIFIED:20220612T135437Z
UID:1209-1658448000-1658534399@demo.jcicebu.org
SUMMARY:Induction: JCI Angeles City Culiat
DESCRIPTION:
URL:https://demo.jcicebu.org/event/induction-jci-angeles-city-culiat/
CATEGORIES:Induction,Linkages
ATTACH;FMTTYPE=image/png:https://demo.jcicebu.org/wp-content/uploads/2022/06/JCI-PROJECT-2.png
END:VEVENT
BEGIN:VEVENT
DTSTART;VALUE=DATE:20220705
DTEND;VALUE=DATE:20220706
DTSTAMP:20260425T190803
CREATED:20220704T104129Z
LAST-MODIFIED:20220704T104129Z
UID:1563-1656979200-1657065599@demo.jcicebu.org
SUMMARY:NDR Meeting with RAFI
DESCRIPTION:
URL:https://demo.jcicebu.org/event/ndr-meeting-with-rafi/
CATEGORIES:Linkages
ATTACH;FMTTYPE=image/png:https://demo.jcicebu.org/wp-content/uploads/2022/07/JCI-PROJECT-5.png
END:VEVENT
BEGIN:VEVENT
DTSTART;VALUE=DATE:20220625
DTEND;VALUE=DATE:20220626
DTSTAMP:20260425T190803
CREATED:20220611T092332Z
LAST-MODIFIED:20220611T092332Z
UID:1172-1656115200-1656201599@demo.jcicebu.org
SUMMARY:Morning Brews: Justin Arcenas
DESCRIPTION:
URL:https://demo.jcicebu.org/event/morning-brews-justin-arcenas/
CATEGORIES:Linkages
ATTACH;FMTTYPE=image/png:https://demo.jcicebu.org/wp-content/uploads/2022/06/JCI-PROJECT-13.png
END:VEVENT
BEGIN:VEVENT
DTSTART;TZID=Asia/Singapore:20220614T100000
DTEND;TZID=Asia/Singapore:20220614T110000
DTSTAMP:20260425T190803
CREATED:20220611T080606Z
LAST-MODIFIED:20220611T080606Z
UID:1135-1655200800-1655204400@demo.jcicebu.org
SUMMARY:Courtesy Visit: Mayor SamSam Gullas
DESCRIPTION:
URL:https://demo.jcicebu.org/event/courtesy-visit-mayor-samsam-gullas/
LOCATION:Talisay City Hall\, Fidel Bas\, Talisay\, Cebu\, Philippines
CATEGORIES:Linkages
ATTACH;FMTTYPE=image/png:https://demo.jcicebu.org/wp-content/uploads/2022/06/JCI-PROJECT-4.png
END:VEVENT
END:VCALENDAR