BEGIN:VCALENDAR
VERSION:2.0
PRODID:-//JCI Cebu - ECPv6.5.1.5//NONSGML v1.0//EN
CALSCALE:GREGORIAN
METHOD:PUBLISH
X-WR-CALNAME:JCI Cebu
X-ORIGINAL-URL:https://demo.jcicebu.org
X-WR-CALDESC:Events for JCI Cebu
REFRESH-INTERVAL;VALUE=DURATION:PT1H
X-Robots-Tag:noindex
X-PUBLISHED-TTL:PT1H
BEGIN:VTIMEZONE
TZID:Asia/Singapore
BEGIN:STANDARD
TZOFFSETFROM:+0800
TZOFFSETTO:+0800
TZNAME:+08
DTSTART:20220101T000000
END:STANDARD
END:VTIMEZONE
BEGIN:VEVENT
DTSTART;VALUE=DATE:20231118
DTEND;VALUE=DATE:20231119
DTSTAMP:20260422T001517
CREATED:20240106T185614Z
LAST-MODIFIED:20240106T185614Z
UID:2381-1700265600-1700351999@demo.jcicebu.org
SUMMARY:CV Training | Transcend Academy 1.1: Back to Basics
DESCRIPTION:
URL:https://demo.jcicebu.org/event/cv-training-transcend-academy-1-1-back-to-basics/
CATEGORIES:Training
END:VEVENT
BEGIN:VEVENT
DTSTART;VALUE=DATE:20230210
DTEND;VALUE=DATE:20230214
DTSTAMP:20260422T001517
CREATED:20230202T151504Z
LAST-MODIFIED:20230202T151504Z
UID:2053-1675987200-1676332799@demo.jcicebu.org
SUMMARY:Opening the Gateway to JCI Growth and Development (APDC) in Boracay
DESCRIPTION:
URL:https://demo.jcicebu.org/event/opening-the-gateway-to-jci-growth-and-development-apdc-in-boracay/
LOCATION:Boracay\, Malay\, Aklan\, Philippines
CATEGORIES:Training
END:VEVENT
BEGIN:VEVENT
DTSTART;VALUE=DATE:20230108
DTEND;VALUE=DATE:20230109
DTSTAMP:20260422T001517
CREATED:20220918T020703Z
LAST-MODIFIED:20220918T020703Z
UID:1844-1673136000-1673222399@demo.jcicebu.org
SUMMARY:Cebu City Marathon on 3rd Bridge
DESCRIPTION:
URL:https://demo.jcicebu.org/event/cebu-city-marathon-on-3rd-bridge/
CATEGORIES:Training
END:VEVENT
BEGIN:VEVENT
DTSTART;VALUE=DATE:20221105
DTEND;VALUE=DATE:20221107
DTSTAMP:20260422T001517
CREATED:20221011T104400Z
LAST-MODIFIED:20221011T104400Z
UID:1891-1667606400-1667779199@demo.jcicebu.org
SUMMARY:Spartan Race
DESCRIPTION:
URL:https://demo.jcicebu.org/event/spartan-race/
CATEGORIES:Reminders,Training
END:VEVENT
BEGIN:VEVENT
DTSTART;VALUE=DATE:20221022
DTEND;VALUE=DATE:20221024
DTSTAMP:20260422T001517
CREATED:20221011T104254Z
LAST-MODIFIED:20221011T104254Z
UID:1889-1666396800-1666569599@demo.jcicebu.org
SUMMARY:Teambuilding
DESCRIPTION:
URL:https://demo.jcicebu.org/event/teambuilding/
CATEGORIES:Training
END:VEVENT
BEGIN:VEVENT
DTSTART;VALUE=DATE:20221010
DTEND;VALUE=DATE:20221013
DTSTAMP:20260422T001517
CREATED:20220918T020426Z
LAST-MODIFIED:20220918T020426Z
UID:1842-1665360000-1665619199@demo.jcicebu.org
SUMMARY:JCI President's Academy
DESCRIPTION:
URL:https://demo.jcicebu.org/event/jci-presidents-academy/
CATEGORIES:Training
END:VEVENT
BEGIN:VEVENT
DTSTART;VALUE=DATE:20220925
DTEND;VALUE=DATE:20220926
DTSTAMP:20260422T001517
CREATED:20220925T013812Z
LAST-MODIFIED:20220918T013948Z
UID:1836-1664064000-1664150399@demo.jcicebu.org
SUMMARY:Cavite Spartan Race- Bro Nel & VP Chen
DESCRIPTION:
URL:https://demo.jcicebu.org/event/cavite-spartan-race-bro-nel-vp-chen/
CATEGORIES:Training
END:VEVENT
BEGIN:VEVENT
DTSTART;VALUE=DATE:20220731
DTEND;VALUE=DATE:20220801
DTSTAMP:20260422T001517
CREATED:20220704T105144Z
LAST-MODIFIED:20220704T105144Z
UID:1570-1659225600-1659311999@demo.jcicebu.org
SUMMARY:Jaycee Spartan Trainings
DESCRIPTION:
URL:https://demo.jcicebu.org/event/jaycee-spartan-trainings/
CATEGORIES:Project,Training
ATTACH;FMTTYPE=image/png:https://demo.jcicebu.org/wp-content/uploads/2022/07/JCI-PROJECT-7.png
END:VEVENT
BEGIN:VEVENT
DTSTART;VALUE=DATE:20220731
DTEND;VALUE=DATE:20220801
DTSTAMP:20260422T001517
CREATED:20220612T141235Z
LAST-MODIFIED:20220612T141235Z
UID:1224-1659225600-1659311999@demo.jcicebu.org
SUMMARY:TechTalk - Coders of Cebu
DESCRIPTION:
URL:https://demo.jcicebu.org/event/techtalk-coders-of-cebu/
CATEGORIES:Project,Training
ATTACH;FMTTYPE=image/png:https://demo.jcicebu.org/wp-content/uploads/2022/06/JCI-PROJECT-18.png
END:VEVENT
BEGIN:VEVENT
DTSTART;VALUE=DATE:20220711
DTEND;VALUE=DATE:20220730
DTSTAMP:20260422T001517
CREATED:20220612T134927Z
LAST-MODIFIED:20220612T134954Z
UID:1203-1657497600-1659139199@demo.jcicebu.org
SUMMARY:CodingBootCamp: PythonWebDevt
DESCRIPTION:
URL:https://demo.jcicebu.org/event/codingbootcamp-pythonwebdevt/
CATEGORIES:Project,Training
ATTACH;FMTTYPE=image/png:https://demo.jcicebu.org/wp-content/uploads/2022/06/JCI-PROJECT-16.png
END:VEVENT
BEGIN:VEVENT
DTSTART;VALUE=DATE:20220708
DTEND;VALUE=DATE:20220710
DTSTAMP:20260422T001517
CREATED:20220612T134252Z
LAST-MODIFIED:20220612T134252Z
UID:1200-1657238400-1657411199@demo.jcicebu.org
SUMMARY:Future Leaders Academy
DESCRIPTION:
URL:https://demo.jcicebu.org/event/future-leaders-academy/
CATEGORIES:Project,Training
ATTACH;FMTTYPE=image/png:https://demo.jcicebu.org/wp-content/uploads/2022/06/JCI-PROJECT-15.png
END:VEVENT
BEGIN:VEVENT
DTSTART;TZID=Asia/Singapore:20220702T083000
DTEND;TZID=Asia/Singapore:20220702T103000
DTSTAMP:20260422T001517
CREATED:20220624T181353Z
LAST-MODIFIED:20220624T181531Z
UID:1521-1656750600-1656757800@demo.jcicebu.org
SUMMARY:Morning Brews - Coffee World
DESCRIPTION:
URL:https://demo.jcicebu.org/event/morning-brews-coffee-world/
LOCATION:Qube Gallery\, Design Center\, AS Fortuna\, Mandaue City\, Cebu\, 6014\, Philippines
CATEGORIES:Training
ATTACH;FMTTYPE=image/png:https://demo.jcicebu.org/wp-content/uploads/2022/06/288310443_1238517040222285_4996597283631772392_n.png
END:VEVENT
BEGIN:VEVENT
DTSTART;TZID=Asia/Singapore:20220625T090000
DTEND;TZID=Asia/Singapore:20220625T150000
DTSTAMP:20260422T001517
CREATED:20220624T173635Z
LAST-MODIFIED:20220624T173635Z
UID:1502-1656147600-1656169200@demo.jcicebu.org
SUMMARY:Effective Communication with JCI Zugbuana
DESCRIPTION:
URL:https://demo.jcicebu.org/event/effective-communication-with-jci-zugbuana/
LOCATION:Vibo Place\, 2nd Floor Axis Entertainment Avenue Vibo Place\, Cebu City\, Cebu\, 6014\, Philippines
CATEGORIES:Training
ATTACH;FMTTYPE=image/jpeg:https://demo.jcicebu.org/wp-content/uploads/2022/06/289048315_1426705084514346_2522417708593075556_n.jpg
END:VEVENT
BEGIN:VEVENT
DTSTART;VALUE=DATE:20220614
DTEND;VALUE=DATE:20220615
DTSTAMP:20260422T001517
CREATED:20220611T081723Z
LAST-MODIFIED:20220611T081723Z
UID:1142-1655164800-1655251199@demo.jcicebu.org
SUMMARY:JCI Cebu 74th Anniversary Week: Slogos & Videoke Night
DESCRIPTION:
URL:https://demo.jcicebu.org/event/jci-cebu-74th-anniversary-week-slogos-videoke-night/
CATEGORIES:Training
ATTACH;FMTTYPE=image/png:https://demo.jcicebu.org/wp-content/uploads/2022/06/JCI-PROJECT-6.png
END:VEVENT
END:VCALENDAR