BEGIN:VCALENDAR
VERSION:2.0
PRODID:-//JCI Cebu - ECPv6.5.1.5//NONSGML v1.0//EN
CALSCALE:GREGORIAN
METHOD:PUBLISH
X-ORIGINAL-URL:https://demo.jcicebu.org
X-WR-CALDESC:Events for JCI Cebu
REFRESH-INTERVAL;VALUE=DURATION:PT1H
X-Robots-Tag:noindex
X-PUBLISHED-TTL:PT1H
BEGIN:VTIMEZONE
TZID:Asia/Singapore
BEGIN:STANDARD
TZOFFSETFROM:+0800
TZOFFSETTO:+0800
TZNAME:+08
DTSTART:20230101T000000
END:STANDARD
END:VTIMEZONE
BEGIN:VEVENT
DTSTART;VALUE=DATE:20231126
DTEND;VALUE=DATE:20231127
DTSTAMP:20260426T000548
CREATED:20240106T190249Z
LAST-MODIFIED:20240106T190249Z
UID:2391-1700956800-1701043199@demo.jcicebu.org
SUMMARY:Buwan Ng Bata": Induction Project (H.I.K.E. Ta Bai 2.0: Mind\, Body & Soul)
DESCRIPTION:
URL:https://demo.jcicebu.org/event/buwan-ng-bata-induction-project-h-i-k-e-ta-bai-2-0-mind-body-soul/
CATEGORIES:Induction,Project
END:VEVENT
END:VCALENDAR