BEGIN:VCALENDAR
VERSION:2.0
PRODID:-//JCI Cebu - ECPv6.5.1.5//NONSGML v1.0//EN
CALSCALE:GREGORIAN
METHOD:PUBLISH
X-ORIGINAL-URL:https://demo.jcicebu.org
X-WR-CALDESC:Events for JCI Cebu
REFRESH-INTERVAL;VALUE=DURATION:PT1H
X-Robots-Tag:noindex
X-PUBLISHED-TTL:PT1H
BEGIN:VTIMEZONE
TZID:Asia/Singapore
BEGIN:STANDARD
TZOFFSETFROM:+0800
TZOFFSETTO:+0800
TZNAME:+08
DTSTART:20220101T000000
END:STANDARD
END:VTIMEZONE
BEGIN:VEVENT
DTSTART;VALUE=DATE:20230203
DTEND;VALUE=DATE:20230204
DTSTAMP:20260422T001714
CREATED:20221011T104646Z
LAST-MODIFIED:20221011T104646Z
UID:1897-1675382400-1675468799@demo.jcicebu.org
SUMMARY:Induction JCI Boholanna Kisses
DESCRIPTION:
URL:https://demo.jcicebu.org/event/induction-jci-boholanna-kisses/
CATEGORIES:Induction
END:VEVENT
BEGIN:VEVENT
DTSTART;VALUE=DATE:20230131
DTEND;VALUE=DATE:20230201
DTSTAMP:20260422T001714
CREATED:20230202T150711Z
LAST-MODIFIED:20230202T150711Z
UID:2044-1675123200-1675209599@demo.jcicebu.org
SUMMARY:Eat Out with NSDD James Lim
DESCRIPTION:
URL:https://demo.jcicebu.org/event/eat-out-with-nsdd-james-lim/
CATEGORIES:General Meeting
END:VEVENT
BEGIN:VEVENT
DTSTART;VALUE=DATE:20230108
DTEND;VALUE=DATE:20230109
DTSTAMP:20260422T001714
CREATED:20220918T020703Z
LAST-MODIFIED:20220918T020703Z
UID:1844-1673136000-1673222399@demo.jcicebu.org
SUMMARY:Cebu City Marathon on 3rd Bridge
DESCRIPTION:
URL:https://demo.jcicebu.org/event/cebu-city-marathon-on-3rd-bridge/
CATEGORIES:Training
END:VEVENT
BEGIN:VEVENT
DTSTART;VALUE=DATE:20221217
DTEND;VALUE=DATE:20221218
DTSTAMP:20260422T001714
CREATED:20221027T122313Z
LAST-MODIFIED:20221027T122313Z
UID:1941-1671235200-1671321599@demo.jcicebu.org
SUMMARY:Induction Tanauan Pasaka
DESCRIPTION:
URL:https://demo.jcicebu.org/event/induction-tanauan-pasaka/
CATEGORIES:Induction,Linkages
END:VEVENT
BEGIN:VEVENT
DTSTART;VALUE=DATE:20221209
DTEND;VALUE=DATE:20221210
DTSTAMP:20260422T001714
CREATED:20221027T122225Z
LAST-MODIFIED:20221027T122225Z
UID:1939-1670544000-1670630399@demo.jcicebu.org
SUMMARY:Induction Cebu Tycoons
DESCRIPTION:
URL:https://demo.jcicebu.org/event/induction-cebu-tycoons/
CATEGORIES:Induction
END:VEVENT
BEGIN:VEVENT
DTSTART;VALUE=DATE:20221203
DTEND;VALUE=DATE:20221204
DTSTAMP:20260422T001714
CREATED:20221011T104552Z
LAST-MODIFIED:20221011T104552Z
UID:1895-1670025600-1670111999@demo.jcicebu.org
SUMMARY:Induction JCI Iloilo - Ilang2
DESCRIPTION:
URL:https://demo.jcicebu.org/event/induction-jci-iloilo-ilang2/
CATEGORIES:Induction
END:VEVENT
BEGIN:VEVENT
DTSTART;VALUE=DATE:20221127
DTEND;VALUE=DATE:20221128
DTSTAMP:20260422T001714
CREATED:20221027T122147Z
LAST-MODIFIED:20221027T122147Z
UID:1937-1669507200-1669593599@demo.jcicebu.org
SUMMARY:HIKE Ta Bai!
DESCRIPTION:
URL:https://demo.jcicebu.org/event/hike-ta-bai/
CATEGORIES:Project
END:VEVENT
BEGIN:VEVENT
DTSTART;VALUE=DATE:20221126
DTEND;VALUE=DATE:20221127
DTSTAMP:20260422T001714
CREATED:20221011T104455Z
LAST-MODIFIED:20221011T104455Z
UID:1893-1669420800-1669507199@demo.jcicebu.org
SUMMARY:75th Induction JCI Cebu
DESCRIPTION:
URL:https://demo.jcicebu.org/event/75th-induction-jci-cebu/
CATEGORIES:Induction
END:VEVENT
BEGIN:VEVENT
DTSTART;VALUE=DATE:20221118
DTEND;VALUE=DATE:20221119
DTSTAMP:20260422T001714
CREATED:20221027T121907Z
LAST-MODIFIED:20221027T121907Z
UID:1933-1668729600-1668815999@demo.jcicebu.org
SUMMARY:#AkoBayani OTI
DESCRIPTION:
URL:https://demo.jcicebu.org/event/akobayani-oti/
CATEGORIES:OTI
END:VEVENT
BEGIN:VEVENT
DTSTART;VALUE=DATE:20221112
DTEND;VALUE=DATE:20221113
DTSTAMP:20260422T001714
CREATED:20221027T115531Z
LAST-MODIFIED:20221027T115550Z
UID:1930-1668211200-1668297599@demo.jcicebu.org
SUMMARY:External Festival by EVP External
DESCRIPTION:
URL:https://demo.jcicebu.org/event/external-festival-by-evp-external/
CATEGORIES:General Meeting
END:VEVENT
BEGIN:VEVENT
DTSTART;VALUE=DATE:20221111
DTEND;VALUE=DATE:20221113
DTSTAMP:20260422T001714
CREATED:20221027T115256Z
LAST-MODIFIED:20221027T115426Z
UID:1926-1668124800-1668297599@demo.jcicebu.org
SUMMARY:Block Screening WAKANDA
DESCRIPTION:Good day Marvel fans! \nBlack Panther is finally making a comeback and coming to your nearest cinema soon. \nFind out just how Wakanda chooses to carry on T’Challa’s legacy in Black Panther 2 – now in cinemas this November! \n🗺️ SM City Seaside\, Director’s Club\n🗓️ November 11 and 12 (Friday and Saturday)\n🕖 06:45 PM\n🏷️ P900\n📞 Paul @ 0917-650-0944 \nDive into Wakanda…\nFor a cause.\n✅ Director’s club (comes with popcorn and drinks)\n✅ Premiere day – November 11\n✅ Plus special giveaways!\n✅ A portion of profits go to charity while the rest will fund projects for the local community. 🏘️ \nYour seats will be reserved upon payment\nBook your seat here: \nFor inquiries\, message us.\nOr call Paul @ 0917-650-0944. \nSee you there! 🐆🙅🙅‍♀️
URL:https://demo.jcicebu.org/event/block-screening-wakanda/
LOCATION:SM City Seaside\, Director’s Club\, SM City Seaside\, Cebu City\, Cebu\, 6000\, Philippines
CATEGORIES:Project
ATTACH;FMTTYPE=image/jpeg:https://demo.jcicebu.org/wp-content/uploads/2022/10/311930369_10158458360406059_8881130339666791024_n.jpg
END:VEVENT
BEGIN:VEVENT
DTSTART;VALUE=DATE:20221105
DTEND;VALUE=DATE:20221107
DTSTAMP:20260422T001714
CREATED:20221011T104400Z
LAST-MODIFIED:20221011T104400Z
UID:1891-1667606400-1667779199@demo.jcicebu.org
SUMMARY:Spartan Race
DESCRIPTION:
URL:https://demo.jcicebu.org/event/spartan-race/
CATEGORIES:Reminders,Training
END:VEVENT
BEGIN:VEVENT
DTSTART;VALUE=DATE:20221031
DTEND;VALUE=DATE:20221105
DTSTAMP:20260422T001714
CREATED:20220612T141025Z
LAST-MODIFIED:20220612T141025Z
UID:1221-1667174400-1667606399@demo.jcicebu.org
SUMMARY:JCI WorldCon - Hongkong
DESCRIPTION:
URL:https://demo.jcicebu.org/event/jci-worldcon-hongkong/
CATEGORIES:JCI Convention
ATTACH;FMTTYPE=image/png:https://demo.jcicebu.org/wp-content/uploads/2022/06/JCI-PROJECT-23.png
END:VEVENT
BEGIN:VEVENT
DTSTART;VALUE=DATE:20221028
DTEND;VALUE=DATE:20221029
DTSTAMP:20260422T001714
CREATED:20221027T114809Z
LAST-MODIFIED:20221027T114809Z
UID:1924-1666915200-1667001599@demo.jcicebu.org
SUMMARY:Internal Mixer by EVP Internal
DESCRIPTION:
URL:https://demo.jcicebu.org/event/internal-mixer-by-evp-internal/
END:VEVENT
BEGIN:VEVENT
DTSTART;VALUE=DATE:20221022
DTEND;VALUE=DATE:20221024
DTSTAMP:20260422T001714
CREATED:20221011T104254Z
LAST-MODIFIED:20221011T104254Z
UID:1889-1666396800-1666569599@demo.jcicebu.org
SUMMARY:Teambuilding
DESCRIPTION:
URL:https://demo.jcicebu.org/event/teambuilding/
CATEGORIES:Training
END:VEVENT
BEGIN:VEVENT
DTSTART;VALUE=DATE:20221013
DTEND;VALUE=DATE:20221019
DTSTAMP:20260422T001714
CREATED:20220612T140859Z
LAST-MODIFIED:20220918T015823Z
UID:1218-1665619200-1666137599@demo.jcicebu.org
SUMMARY:JCI NatCon - Surigao
DESCRIPTION:
URL:https://demo.jcicebu.org/event/jci-natcon-surigao/
CATEGORIES:JCI Convention
ATTACH;FMTTYPE=image/png:https://demo.jcicebu.org/wp-content/uploads/2022/06/JCI-PROJECT-22.png
END:VEVENT
BEGIN:VEVENT
DTSTART;VALUE=DATE:20221010
DTEND;VALUE=DATE:20221013
DTSTAMP:20260422T001714
CREATED:20220918T020426Z
LAST-MODIFIED:20220918T020426Z
UID:1842-1665360000-1665619199@demo.jcicebu.org
SUMMARY:JCI President's Academy
DESCRIPTION:
URL:https://demo.jcicebu.org/event/jci-presidents-academy/
CATEGORIES:Training
END:VEVENT
BEGIN:VEVENT
DTSTART;VALUE=DATE:20221002
DTEND;VALUE=DATE:20221003
DTSTAMP:20260422T001714
CREATED:20221011T104153Z
LAST-MODIFIED:20221011T104153Z
UID:1886-1664668800-1664755199@demo.jcicebu.org
SUMMARY:USC JJC Induction
DESCRIPTION:
URL:https://demo.jcicebu.org/event/usc-jjc-induction/
LOCATION:Mezzo Hotel\, Philippines
CATEGORIES:Induction
END:VEVENT
BEGIN:VEVENT
DTSTART;VALUE=DATE:20221001
DTEND;VALUE=DATE:20221002
DTSTAMP:20260422T001714
CREATED:20221011T103949Z
LAST-MODIFIED:20221011T103949Z
UID:1884-1664582400-1664668799@demo.jcicebu.org
SUMMARY:Photoshoot
DESCRIPTION:
URL:https://demo.jcicebu.org/event/photoshoot/
CATEGORIES:Reminders
END:VEVENT
BEGIN:VEVENT
DTSTART;VALUE=DATE:20220929
DTEND;VALUE=DATE:20220930
DTSTAMP:20260422T001714
CREATED:20221011T105115Z
LAST-MODIFIED:20221011T105115Z
UID:1906-1664409600-1664495999@demo.jcicebu.org
SUMMARY:USAID Volunteering Programme Development and Management Launching Ceremony
DESCRIPTION:
URL:https://demo.jcicebu.org/event/usaid-volunteering-programme-development-and-management-launching-ceremony/
CATEGORIES:Linkages
END:VEVENT
BEGIN:VEVENT
DTSTART;VALUE=DATE:20220927
DTEND;VALUE=DATE:20220928
DTSTAMP:20260422T001714
CREATED:20221011T105012Z
LAST-MODIFIED:20221011T105012Z
UID:1904-1664236800-1664323199@demo.jcicebu.org
SUMMARY:Mass Wedding
DESCRIPTION:
URL:https://demo.jcicebu.org/event/mass-wedding/
CATEGORIES:Project
END:VEVENT
BEGIN:VEVENT
DTSTART;VALUE=DATE:20220926
DTEND;VALUE=DATE:20220927
DTSTAMP:20260422T001714
CREATED:20220926T014004Z
LAST-MODIFIED:20220918T014051Z
UID:1838-1664150400-1664236799@demo.jcicebu.org
SUMMARY:Meeting with PP Senators for 75th Anniversary
DESCRIPTION:
URL:https://demo.jcicebu.org/event/meeting-with-pp-senators-for-75th-anniversary/
CATEGORIES:General Membership Meeting
END:VEVENT
BEGIN:VEVENT
DTSTART;VALUE=DATE:20220925
DTEND;VALUE=DATE:20220926
DTSTAMP:20260422T001714
CREATED:20220925T013812Z
LAST-MODIFIED:20220918T013948Z
UID:1836-1664064000-1664150399@demo.jcicebu.org
SUMMARY:Cavite Spartan Race- Bro Nel & VP Chen
DESCRIPTION:
URL:https://demo.jcicebu.org/event/cavite-spartan-race-bro-nel-vp-chen/
CATEGORIES:Training
END:VEVENT
BEGIN:VEVENT
DTSTART;VALUE=DATE:20220922
DTEND;VALUE=DATE:20220923
DTSTAMP:20260422T001714
CREATED:20220922T013632Z
LAST-MODIFIED:20220918T013751Z
UID:1834-1663804800-1663891199@demo.jcicebu.org
SUMMARY:Last GMM\, Celeb & Election\, JCI Cebu
DESCRIPTION:
URL:https://demo.jcicebu.org/event/last-gmm-celeb-election-jci-cebu/
CATEGORIES:JCI Convention
END:VEVENT
BEGIN:VEVENT
DTSTART;VALUE=DATE:20220917
DTEND;VALUE=DATE:20220918
DTSTAMP:20260422T001714
CREATED:20220917T013526Z
LAST-MODIFIED:20220918T013559Z
UID:1832-1663372800-1663459199@demo.jcicebu.org
SUMMARY:Tuburan Tree Planting
DESCRIPTION:
URL:https://demo.jcicebu.org/event/tuburan-tree-planting/
CATEGORIES:Project
END:VEVENT
BEGIN:VEVENT
DTSTART;VALUE=DATE:20220917
DTEND;VALUE=DATE:20220918
DTSTAMP:20260422T001714
CREATED:20220917T013423Z
LAST-MODIFIED:20220918T013505Z
UID:1830-1663372800-1663459199@demo.jcicebu.org
SUMMARY:Meeting 75th Induction Team
DESCRIPTION:
URL:https://demo.jcicebu.org/event/meeting-75th-induction-team/
CATEGORIES:General Membership Meeting,Induction
END:VEVENT
BEGIN:VEVENT
DTSTART;VALUE=DATE:20220916
DTEND;VALUE=DATE:20220917
DTSTAMP:20260422T001714
CREATED:20220916T013310Z
LAST-MODIFIED:20220918T013405Z
UID:1828-1663286400-1663372799@demo.jcicebu.org
SUMMARY:The Sili Project by the Sili (Baby Jaycee Project)
DESCRIPTION:
URL:https://demo.jcicebu.org/event/the-sili-project-by-the-sili-baby-jaycee-project/
CATEGORIES:Project
END:VEVENT
BEGIN:VEVENT
DTSTART;VALUE=DATE:20220911
DTEND;VALUE=DATE:20220912
DTSTAMP:20260422T001714
CREATED:20220911T013213Z
LAST-MODIFIED:20220918T013250Z
UID:1826-1662854400-1662940799@demo.jcicebu.org
SUMMARY:JCI Cebu Hara Election
DESCRIPTION:
URL:https://demo.jcicebu.org/event/jci-cebu-hara-election/
CATEGORIES:Linkages
END:VEVENT
BEGIN:VEVENT
DTSTART;TZID=Asia/Singapore:20220910T080000
DTEND;TZID=Asia/Singapore:20220910T170000
DTSTAMP:20260422T001714
CREATED:20220910T013105Z
LAST-MODIFIED:20220918T013156Z
UID:1824-1662796800-1662829200@demo.jcicebu.org
SUMMARY:TOYM Launching - Dohera Hotel
DESCRIPTION:
URL:https://demo.jcicebu.org/event/toym-launching-dohera-hotel/
CATEGORIES:Linkages
END:VEVENT
BEGIN:VEVENT
DTSTART;TZID=Asia/Singapore:20220910T080000
DTEND;TZID=Asia/Singapore:20220910T170000
DTSTAMP:20260422T001714
CREATED:20220910T012950Z
LAST-MODIFIED:20220918T013045Z
UID:1822-1662796800-1662829200@demo.jcicebu.org
SUMMARY:Project Spark - Danao City
DESCRIPTION:
URL:https://demo.jcicebu.org/event/project-spark-danao-city/
CATEGORIES:Project
END:VEVENT
END:VCALENDAR