BEGIN:VCALENDAR
VERSION:2.0
PRODID:-//JCI Cebu - ECPv6.5.1.5//NONSGML v1.0//EN
CALSCALE:GREGORIAN
METHOD:PUBLISH
X-ORIGINAL-URL:https://demo.jcicebu.org
X-WR-CALDESC:Events for JCI Cebu
REFRESH-INTERVAL;VALUE=DURATION:PT1H
X-Robots-Tag:noindex
X-PUBLISHED-TTL:PT1H
BEGIN:VTIMEZONE
TZID:Asia/Singapore
BEGIN:STANDARD
TZOFFSETFROM:+0800
TZOFFSETTO:+0800
TZNAME:+08
DTSTART:20220101T000000
END:STANDARD
END:VTIMEZONE
BEGIN:VEVENT
DTSTART;VALUE=DATE:20220701
DTEND;VALUE=DATE:20220702
DTSTAMP:20260423T213729
CREATED:20220612T135902Z
LAST-MODIFIED:20220612T135902Z
UID:1211-1656633600-1656719999@demo.jcicebu.org
SUMMARY:Disability Month Celebration
DESCRIPTION:
URL:https://demo.jcicebu.org/event/disability-month-celebration/
CATEGORIES:Special Celebration
ATTACH;FMTTYPE=image/png:https://demo.jcicebu.org/wp-content/uploads/2022/06/JCI-PROJECT-19.png
END:VEVENT
BEGIN:VEVENT
DTSTART;VALUE=DATE:20220630
DTEND;VALUE=DATE:20220701
DTSTAMP:20260423T213729
CREATED:20220612T141542Z
LAST-MODIFIED:20220612T141542Z
UID:1227-1656547200-1656633599@demo.jcicebu.org
SUMMARY:Gender Equality Program
DESCRIPTION:
URL:https://demo.jcicebu.org/event/gender-equality-program/
CATEGORIES:Project
ATTACH;FMTTYPE=image/png:https://demo.jcicebu.org/wp-content/uploads/2022/06/JCI-PROJECT-24.png
END:VEVENT
BEGIN:VEVENT
DTSTART;TZID=Asia/Singapore:20220628T140000
DTEND;TZID=Asia/Singapore:20220628T170000
DTSTAMP:20260423T213729
CREATED:20220624T182542Z
LAST-MODIFIED:20220624T182542Z
UID:1527-1656424800-1656435600@demo.jcicebu.org
SUMMARY:HourOfCode Orientation
DESCRIPTION:
URL:https://demo.jcicebu.org/event/hourofcode-orientation/
CATEGORIES:Project
ATTACH;FMTTYPE=image/png:https://demo.jcicebu.org/wp-content/uploads/2022/06/289549354_299899742271519_5477635020335765937_n.png
END:VEVENT
BEGIN:VEVENT
DTSTART;VALUE=DATE:20220628
DTEND;VALUE=DATE:20220629
DTSTAMP:20260423T213729
CREATED:20220624T175212Z
LAST-MODIFIED:20220624T175212Z
UID:1515-1656374400-1656460799@demo.jcicebu.org
SUMMARY:CebVisNet Meeting
DESCRIPTION:
URL:https://demo.jcicebu.org/event/cebvisnet-meeting/
CATEGORIES:BOD Meeting
ATTACH;FMTTYPE=image/png:https://demo.jcicebu.org/wp-content/uploads/2022/06/JCI-PROJECT-24.png
END:VEVENT
BEGIN:VEVENT
DTSTART;TZID=Asia/Singapore:20220627T190000
DTEND;TZID=Asia/Singapore:20220627T200000
DTSTAMP:20260423T213729
CREATED:20220624T174628Z
LAST-MODIFIED:20220624T174628Z
UID:1509-1656356400-1656360000@demo.jcicebu.org
SUMMARY:HopeTV ep 3 Love wins
DESCRIPTION:Family is the place where acceptance and validation is needed\, but often hard to find – Bill Crawford. \nOur third episode features a proud mom 💁‍♀️ and how she accepted her son as part of the LGBTQIA+ community 🏳️‍🌈. \nSee you on Monday\, June 27\, 2022 at 7PM! \n#StrongerTogether\n#EmbraceYourVulnerabilities\n#BigThingsAreComing
URL:https://demo.jcicebu.org/event/hopetv-ep-3-love-wins/
CATEGORIES:Project
ATTACH;FMTTYPE=image/jpeg:https://demo.jcicebu.org/wp-content/uploads/2022/06/289695195_114845427925370_890869781648495868_n.jpg
END:VEVENT
BEGIN:VEVENT
DTSTART;VALUE=DATE:20220627
DTEND;VALUE=DATE:20220628
DTSTAMP:20260423T213729
CREATED:20220624T175005Z
LAST-MODIFIED:20220624T175005Z
UID:1512-1656288000-1656374399@demo.jcicebu.org
SUMMARY:Finance meeting
DESCRIPTION:
URL:https://demo.jcicebu.org/event/finance-meeting/
CATEGORIES:BOD Meeting
ATTACH;FMTTYPE=image/png:https://demo.jcicebu.org/wp-content/uploads/2022/06/JCI-PROJECT-3-1.png
END:VEVENT
BEGIN:VEVENT
DTSTART;VALUE=DATE:20220626
DTEND;VALUE=DATE:20220627
DTSTAMP:20260423T213729
CREATED:20220624T174033Z
LAST-MODIFIED:20220624T174033Z
UID:1506-1656201600-1656287999@demo.jcicebu.org
SUMMARY:Induction JCI Chocolate Hills
DESCRIPTION:
URL:https://demo.jcicebu.org/event/induction-jci-chocolate-hills/
CATEGORIES:Induction
ATTACH;FMTTYPE=image/png:https://demo.jcicebu.org/wp-content/uploads/2022/06/JCI-PROJECT-2.png
END:VEVENT
BEGIN:VEVENT
DTSTART;VALUE=DATE:20220626
DTEND;VALUE=DATE:20220627
DTSTAMP:20260423T213729
CREATED:20220611T092553Z
LAST-MODIFIED:20220611T092553Z
UID:1175-1656201600-1656287999@demo.jcicebu.org
SUMMARY:Project: The Youth Farmer Dalaguete
DESCRIPTION:
URL:https://demo.jcicebu.org/event/project-the-youth-farmer-dalaguete/
CATEGORIES:Project
ATTACH;FMTTYPE=image/png:https://demo.jcicebu.org/wp-content/uploads/2022/06/JCI-PROJECT-14.png
END:VEVENT
BEGIN:VEVENT
DTSTART;TZID=Asia/Singapore:20220625T090000
DTEND;TZID=Asia/Singapore:20220625T150000
DTSTAMP:20260423T213729
CREATED:20220624T173635Z
LAST-MODIFIED:20220624T173635Z
UID:1502-1656147600-1656169200@demo.jcicebu.org
SUMMARY:Effective Communication with JCI Zugbuana
DESCRIPTION:
URL:https://demo.jcicebu.org/event/effective-communication-with-jci-zugbuana/
LOCATION:Vibo Place\, 2nd Floor Axis Entertainment Avenue Vibo Place\, Cebu City\, Cebu\, 6014\, Philippines
CATEGORIES:Training
ATTACH;FMTTYPE=image/jpeg:https://demo.jcicebu.org/wp-content/uploads/2022/06/289048315_1426705084514346_2522417708593075556_n.jpg
END:VEVENT
BEGIN:VEVENT
DTSTART;VALUE=DATE:20220625
DTEND;VALUE=DATE:20220626
DTSTAMP:20260423T213729
CREATED:20220611T092332Z
LAST-MODIFIED:20220611T092332Z
UID:1172-1656115200-1656201599@demo.jcicebu.org
SUMMARY:Morning Brews: Justin Arcenas
DESCRIPTION:
URL:https://demo.jcicebu.org/event/morning-brews-justin-arcenas/
CATEGORIES:Linkages
ATTACH;FMTTYPE=image/png:https://demo.jcicebu.org/wp-content/uploads/2022/06/JCI-PROJECT-13.png
END:VEVENT
BEGIN:VEVENT
DTSTART;VALUE=DATE:20220625
DTEND;VALUE=DATE:20220626
DTSTAMP:20260423T213729
CREATED:20220611T090953Z
LAST-MODIFIED:20220611T090953Z
UID:1170-1656115200-1656201599@demo.jcicebu.org
SUMMARY:Induction of JCI Bohol Sandugo
DESCRIPTION:
URL:https://demo.jcicebu.org/event/induction-of-jci-bohol-sandugo/
CATEGORIES:Induction
ATTACH;FMTTYPE=image/png:https://demo.jcicebu.org/wp-content/uploads/2022/06/JCI-PROJECT-2.png
END:VEVENT
BEGIN:VEVENT
DTSTART;TZID=Asia/Singapore:20220624T100000
DTEND;TZID=Asia/Singapore:20220625T170000
DTSTAMP:20260423T213729
CREATED:20220609T100706Z
LAST-MODIFIED:20220609T100706Z
UID:1048-1656064800-1656176400@demo.jcicebu.org
SUMMARY:Jobfair: Trabaho for Every Juan
DESCRIPTION:Together with USC Junior Jaycees \, DOLE\, PESO\, iFM 93.9 Cebu \, RMN DYHP Cebu \, and Converge\, we are inviting you to join and apply in our job fair\, Trabaho for Every-Juan\, this coming June 24-25\, 2022 at the Activity Center of Ayala Central Bloc\, I.T. Park\, Cebu City. See you there\, Every-Juan! \n#BigThingsAreComing\n#StrongerTogether
URL:https://demo.jcicebu.org/event/jobfair-trabaho-for-every-juan/
LOCATION:Ayala Central Bloc\, Ayala Malls Central Bloc\, Padriga Street\, Cebu IT Park\, Cebu City\, Cebu\, 6000\, Philippines
CATEGORIES:Project
ATTACH;FMTTYPE=image/jpeg:https://demo.jcicebu.org/wp-content/uploads/2022/06/286211543_10158272370121059_2894035870999820244_n.jpg
END:VEVENT
BEGIN:VEVENT
DTSTART;VALUE=DATE:20220623
DTEND;VALUE=DATE:20220624
DTSTAMP:20260423T213729
CREATED:20220624T173149Z
LAST-MODIFIED:20220624T173149Z
UID:1500-1655942400-1656028799@demo.jcicebu.org
SUMMARY:Oplan Kaagapay Baybay Wave 3
DESCRIPTION:
URL:https://demo.jcicebu.org/event/oplan-kaagapay-baybay-wave-3/
CATEGORIES:Project
ATTACH;FMTTYPE=image/png:https://demo.jcicebu.org/wp-content/uploads/2022/06/JCI-PROJECT-12.png
END:VEVENT
BEGIN:VEVENT
DTSTART;VALUE=DATE:20220623
DTEND;VALUE=DATE:20220624
DTSTAMP:20260423T213729
CREATED:20220624T172440Z
LAST-MODIFIED:20220624T172440Z
UID:1498-1655942400-1656028799@demo.jcicebu.org
SUMMARY:BBQ party Training Bureau
DESCRIPTION:
URL:https://demo.jcicebu.org/event/bbq-party-training-bureau/
CATEGORIES:BOD Meeting
ATTACH;FMTTYPE=image/png:https://demo.jcicebu.org/wp-content/uploads/2022/06/JCI-PROJECT-18.png
END:VEVENT
BEGIN:VEVENT
DTSTART;VALUE=DATE:20220622
DTEND;VALUE=DATE:20220623
DTSTAMP:20260423T213729
CREATED:20220624T172158Z
LAST-MODIFIED:20220624T172158Z
UID:1495-1655856000-1655942399@demo.jcicebu.org
SUMMARY:Bidwriting Gameplan
DESCRIPTION:
URL:https://demo.jcicebu.org/event/bidwriting-gameplan/
CATEGORIES:BOD Meeting
ATTACH;FMTTYPE=image/png:https://demo.jcicebu.org/wp-content/uploads/2022/06/JCI-PROJECT-2-1.png
END:VEVENT
BEGIN:VEVENT
DTSTART;VALUE=DATE:20220619
DTEND;VALUE=DATE:20220620
DTSTAMP:20260423T213729
CREATED:20220611T090507Z
LAST-MODIFIED:20220611T090507Z
UID:1165-1655596800-1655683199@demo.jcicebu.org
SUMMARY:JCI CEBU 74th Anniversay Week: LaagAbag Free Services4Pardo
DESCRIPTION:
URL:https://demo.jcicebu.org/event/jci-cebu-74th-anniversay-week-laagabag-free-services4pardo/
CATEGORIES:Project,Special Celebration
ATTACH;FMTTYPE=image/png:https://demo.jcicebu.org/wp-content/uploads/2022/06/JCI-PROJECT-12.png
END:VEVENT
BEGIN:VEVENT
DTSTART;VALUE=DATE:20220619
DTEND;VALUE=DATE:20220620
DTSTAMP:20260423T213729
CREATED:20220611T085312Z
LAST-MODIFIED:20220611T085312Z
UID:1162-1655596800-1655683199@demo.jcicebu.org
SUMMARY:JCI CEBU 74th Anniversay Week: Father's Day Event w/ iFM
DESCRIPTION:
URL:https://demo.jcicebu.org/event/jci-cebu-74th-anniversay-week-fathers-day-event-w-ifm/
CATEGORIES:Project,Special Celebration
ATTACH;FMTTYPE=image/png:https://demo.jcicebu.org/wp-content/uploads/2022/06/JCI-PROJECT-11.png
END:VEVENT
BEGIN:VEVENT
DTSTART;VALUE=DATE:20220618
DTEND;VALUE=DATE:20220619
DTSTAMP:20260423T213729
CREATED:20220611T090835Z
LAST-MODIFIED:20220611T090835Z
UID:1168-1655510400-1655596799@demo.jcicebu.org
SUMMARY:Induction of JCI Mactan Reyna Bulakna
DESCRIPTION:
URL:https://demo.jcicebu.org/event/induction-of-jci-mactan-reyna-bulakna/
CATEGORIES:Induction
ATTACH;FMTTYPE=image/png:https://demo.jcicebu.org/wp-content/uploads/2022/06/JCI-PROJECT-2.png
END:VEVENT
BEGIN:VEVENT
DTSTART;VALUE=DATE:20220618
DTEND;VALUE=DATE:20220619
DTSTAMP:20260423T213729
CREATED:20220611T084728Z
LAST-MODIFIED:20220611T084728Z
UID:1158-1655510400-1655596799@demo.jcicebu.org
SUMMARY:JCI Cebu 74th Anniversary: Basketball Clinic
DESCRIPTION:
URL:https://demo.jcicebu.org/event/jci-cebu-74th-anniversary-basketball-clinic/
LOCATION:Pinamungajan\, Cebu\, Pinamungahan\, Cebu\, 6039\, Philippines
CATEGORIES:Project,Special Celebration
ATTACH;FMTTYPE=image/png:https://demo.jcicebu.org/wp-content/uploads/2022/06/JCI-PROJECT-10.png
END:VEVENT
BEGIN:VEVENT
DTSTART;VALUE=DATE:20220618
DTEND;VALUE=DATE:20220619
DTSTAMP:20260423T213729
CREATED:20220611T083853Z
LAST-MODIFIED:20220612T141940Z
UID:1154-1655510400-1655596799@demo.jcicebu.org
SUMMARY:JCI Cebu 74th Anniversary: Mangrove Planting
DESCRIPTION:
URL:https://demo.jcicebu.org/event/mangrove-planting/
LOCATION:Pinamungajan\, Cebu\, Pinamungahan\, Cebu\, 6039\, Philippines
CATEGORIES:Project,Special Celebration
ATTACH;FMTTYPE=image/jpeg:https://demo.jcicebu.org/wp-content/uploads/2022/06/287535739_10158279235751059_3368051695828555265_n.jpg
END:VEVENT
BEGIN:VEVENT
DTSTART;TZID=Asia/Singapore:20220617T080000
DTEND;TZID=Asia/Singapore:20220617T170000
DTSTAMP:20260423T213729
CREATED:20220603T122104Z
LAST-MODIFIED:20220603T124359Z
UID:829-1655452800-1655485200@demo.jcicebu.org
SUMMARY:Jaycees Cup 2022
DESCRIPTION:
URL:https://demo.jcicebu.org/event/jaycees-cup-2022/
LOCATION:Cebu Country Club\, Cebu Country CMB Bldg.\, Cebu\, Cebu\, 6000\, Philippines
CATEGORIES:Project
ATTACH;FMTTYPE=image/jpeg:https://demo.jcicebu.org/wp-content/uploads/2022/06/Jaycees-Cup-Poster16x22_v2-e1654259194256.jpg
END:VEVENT
BEGIN:VEVENT
DTSTART;VALUE=DATE:20220616
DTEND;VALUE=DATE:20220617
DTSTAMP:20260423T213729
CREATED:20220611T083320Z
LAST-MODIFIED:20220611T083320Z
UID:1151-1655337600-1655423999@demo.jcicebu.org
SUMMARY:JCI Cebu 74th Anniversary: The BIG Day
DESCRIPTION:
URL:https://demo.jcicebu.org/event/jci-cebu-74th-anniversary-the-big-day/
CATEGORIES:Special Celebration
ATTACH;FMTTYPE=image/png:https://demo.jcicebu.org/wp-content/uploads/2022/06/JCI-PROJECT-8.png
END:VEVENT
BEGIN:VEVENT
DTSTART;VALUE=DATE:20220615
DTEND;VALUE=DATE:20220616
DTSTAMP:20260423T213729
CREATED:20220611T082746Z
LAST-MODIFIED:20220611T082746Z
UID:1148-1655251200-1655337599@demo.jcicebu.org
SUMMARY:JCI Cebu 74th Anniversary Week: Sports Night - Bowling
DESCRIPTION:
URL:https://demo.jcicebu.org/event/jci-cebu-74th-anniversary-week-sports-night-bowling/
CATEGORIES:Special Celebration
ATTACH;FMTTYPE=image/png:https://demo.jcicebu.org/wp-content/uploads/2022/06/JCI-PROJECT-7.png
END:VEVENT
BEGIN:VEVENT
DTSTART;TZID=Asia/Singapore:20220614T100000
DTEND;TZID=Asia/Singapore:20220614T110000
DTSTAMP:20260423T213729
CREATED:20220611T080606Z
LAST-MODIFIED:20220611T080606Z
UID:1135-1655200800-1655204400@demo.jcicebu.org
SUMMARY:Courtesy Visit: Mayor SamSam Gullas
DESCRIPTION:
URL:https://demo.jcicebu.org/event/courtesy-visit-mayor-samsam-gullas/
LOCATION:Talisay City Hall\, Fidel Bas\, Talisay\, Cebu\, Philippines
CATEGORIES:Linkages
ATTACH;FMTTYPE=image/png:https://demo.jcicebu.org/wp-content/uploads/2022/06/JCI-PROJECT-4.png
END:VEVENT
BEGIN:VEVENT
DTSTART;VALUE=DATE:20220614
DTEND;VALUE=DATE:20220615
DTSTAMP:20260423T213729
CREATED:20220611T081723Z
LAST-MODIFIED:20220611T081723Z
UID:1142-1655164800-1655251199@demo.jcicebu.org
SUMMARY:JCI Cebu 74th Anniversary Week: Slogos & Videoke Night
DESCRIPTION:
URL:https://demo.jcicebu.org/event/jci-cebu-74th-anniversary-week-slogos-videoke-night/
CATEGORIES:Training
ATTACH;FMTTYPE=image/png:https://demo.jcicebu.org/wp-content/uploads/2022/06/JCI-PROJECT-6.png
END:VEVENT
BEGIN:VEVENT
DTSTART;TZID=Asia/Singapore:20220613T190000
DTEND;TZID=Asia/Singapore:20220613T210000
DTSTAMP:20260423T213729
CREATED:20220609T095056Z
LAST-MODIFIED:20220611T082318Z
UID:1035-1655146800-1655154000@demo.jcicebu.org
SUMMARY:JCI Cebu 74th Anniversary Week: HopeTV: Out & Proud
DESCRIPTION:Pride has no limits! In celebration of the Pride Month 🏳️‍🌈\, EP02 of #HopeTV will feature proud members of the LGBTQIA+ community. \nCatch us on Monday\, June 13\, 2022 at 7pm with local artist\, Alem Garcia and a Cebuana beauty queen\, Janice Marsada\, as they share their stories and struggles. \n#EmbraceYourVulnerabilities #StrongerTogether\n#BigThingsAreComing
URL:https://demo.jcicebu.org/event/hopetv-out-proud/
LOCATION:Via FB Live
CATEGORIES:Project
ATTACH;FMTTYPE=image/jpeg:https://demo.jcicebu.org/wp-content/uploads/2022/06/285260792_310220161181242_2533296894468893352_n-scaled.jpg
END:VEVENT
BEGIN:VEVENT
DTSTART;VALUE=DATE:20220613
DTEND;VALUE=DATE:20220614
DTSTAMP:20260423T213729
CREATED:20220611T075726Z
LAST-MODIFIED:20220611T075726Z
UID:1130-1655078400-1655164799@demo.jcicebu.org
SUMMARY:Unveiling Angat Buhay (Labangon)
DESCRIPTION:
URL:https://demo.jcicebu.org/event/unveiling-angat-buhay-labangon/
LOCATION:Labangon\, Cebu City\, Labangon\, Cebu City\, Cebu\, 6000\, Philippines
CATEGORIES:Project
ATTACH;FMTTYPE=image/png:https://demo.jcicebu.org/wp-content/uploads/2022/06/JCI-PROJECT-3.png
END:VEVENT
BEGIN:VEVENT
DTSTART;VALUE=DATE:20220612
DTEND;VALUE=DATE:20220613
DTSTAMP:20260423T213729
CREATED:20220611T081016Z
LAST-MODIFIED:20220611T081810Z
UID:1139-1654992000-1655078399@demo.jcicebu.org
SUMMARY:JCI Cebu 74th Anniversary Week: Independence Day
DESCRIPTION:
URL:https://demo.jcicebu.org/event/independence-day/
CATEGORIES:Special Celebration
ATTACH;FMTTYPE=image/png:https://demo.jcicebu.org/wp-content/uploads/2022/06/JCI-PROJECT-5.png
END:VEVENT
BEGIN:VEVENT
DTSTART;TZID=Asia/Singapore:20220611T130000
DTEND;TZID=Asia/Singapore:20220611T150000
DTSTAMP:20260423T213729
CREATED:20220609T100155Z
LAST-MODIFIED:20220611T081841Z
UID:1043-1654952400-1654959600@demo.jcicebu.org
SUMMARY:JCI Cebu 74th Anniversary Week: Cultural Heritage Walk
DESCRIPTION:Join us as we kick off our #Sulog Anniversary celebration with a Cultural Heritage Walk that starts at Sto. Museum this Saturday\, June 11\, 2022. \nLearn how to appreciate the rich cultural heritage around the Parian neighborhood. \nThis is open to everyone! To reserve a slot\, you may contact VP Chen Tan at 09231666780 or drop us a message. \n#JCICebu74thAnniversary #Sulog74
URL:https://demo.jcicebu.org/event/cultural-heritage-walk/
LOCATION:Sto. Niño Museum\, Basilica Del Sto. Niño de Cebu Museum Basement\, Santo Niño Pilgrim Center\, Osmeña Blvd.\, cor. P. Burgos St.\, Cebu City\, Cebu\, 6000\, Philippines
CATEGORIES:Project
ATTACH;FMTTYPE=image/jpeg:https://demo.jcicebu.org/wp-content/uploads/2022/06/286172916_10158275803001059_6214174757769482937_n.jpg
END:VEVENT
BEGIN:VEVENT
DTSTART;TZID=Asia/Singapore:20220611T130000
DTEND;TZID=Asia/Singapore:20220611T150000
DTSTAMP:20260423T213729
CREATED:20220609T095353Z
LAST-MODIFIED:20220609T095353Z
UID:1039-1654952400-1654959600@demo.jcicebu.org
SUMMARY:Project Bangon Tunghaan 2.0
DESCRIPTION:PROJECT BANGON TUNGHAAN 2.0.\n#BigThingsAreComing
URL:https://demo.jcicebu.org/event/project-bangon-tunghaan-2-0/
LOCATION:Papan\, Sibonga\, Cebu\, Papan\, Sibonga\, Cebu\, 6020\, Philippines
CATEGORIES:Project
ATTACH;FMTTYPE=image/jpeg:https://demo.jcicebu.org/wp-content/uploads/2022/06/286554562_10158272514396059_5520692650885994938_n.jpg
END:VEVENT
END:VCALENDAR