BEGIN:VCALENDAR
VERSION:2.0
PRODID:-//JCI Cebu - ECPv6.5.1.5//NONSGML v1.0//EN
CALSCALE:GREGORIAN
METHOD:PUBLISH
X-WR-CALNAME:JCI Cebu
X-ORIGINAL-URL:https://demo.jcicebu.org
X-WR-CALDESC:Events for JCI Cebu
REFRESH-INTERVAL;VALUE=DURATION:PT1H
X-Robots-Tag:noindex
X-PUBLISHED-TTL:PT1H
BEGIN:VTIMEZONE
TZID:Asia/Singapore
BEGIN:STANDARD
TZOFFSETFROM:+0800
TZOFFSETTO:+0800
TZNAME:+08
DTSTART:20230101T000000
END:STANDARD
END:VTIMEZONE
BEGIN:VEVENT
DTSTART;TZID=Asia/Singapore:20230610T140000
DTEND;TZID=Asia/Singapore:20230610T220000
DTSTAMP:20260425T221643
CREATED:20230609T210033Z
LAST-MODIFIED:20230609T210033Z
UID:2139-1686405600-1686434400@demo.jcicebu.org
SUMMARY:JCI Cebu Exhibit Opening
DESCRIPTION:
URL:https://demo.jcicebu.org/event/jci-cebu-exhibit-opening/
LOCATION:Ayala Central Bloc\, Ayala Malls Central Bloc\, Padriga Street\, Cebu IT Park\, Cebu City\, Cebu\, 6000\, Philippines
CATEGORIES:Special Celebration
END:VEVENT
BEGIN:VEVENT
DTSTART;VALUE=DATE:20230611
DTEND;VALUE=DATE:20230612
DTSTAMP:20260425T221643
CREATED:20230609T210346Z
LAST-MODIFIED:20230609T210346Z
UID:2141-1686441600-1686527999@demo.jcicebu.org
SUMMARY:Born TENTrepreneur: A JCI Cebu Livelihood Program (2nd Leg)
DESCRIPTION:
URL:https://demo.jcicebu.org/event/born-tentrepreneur-a-jci-cebu-livelihood-program-2nd-leg/
LOCATION:Sitio Kauswagan\, Barangay Lagtang\, Talisay City\, Cebu\, Sitio Kauswagan\, Lagtang\, Talisay City\, Cebu\, Philippines\, Talisay City\, Cebu\, 6045\, Philippines
CATEGORIES:Project
END:VEVENT
BEGIN:VEVENT
DTSTART;TZID=Asia/Singapore:20230616T180000
DTEND;TZID=Asia/Singapore:20230616T235900
DTSTAMP:20260425T221643
CREATED:20230609T210738Z
LAST-MODIFIED:20230609T210738Z
UID:2144-1686938400-1686959940@demo.jcicebu.org
SUMMARY:JCI Cebu 75th Anniversary Gala Night
DESCRIPTION:
URL:https://demo.jcicebu.org/event/jci-cebu-75th-anniversary-gala-night/
LOCATION:Casino Español de Cebu\, V Ranudo Street\, Cebu City\, Cebu\, 6000\, Philippines
CATEGORIES:Special Celebration
END:VEVENT
BEGIN:VEVENT
DTSTART;TZID=Asia/Singapore:20230617T130000
DTEND;TZID=Asia/Singapore:20230617T170000
DTSTAMP:20260425T221643
CREATED:20230609T211029Z
LAST-MODIFIED:20230609T211103Z
UID:2147-1687006800-1687021200@demo.jcicebu.org
SUMMARY:PWDE ALL: COMMUNITY PROJECT
DESCRIPTION:
URL:https://demo.jcicebu.org/event/pwde-all-community-project/
LOCATION:Plaza Sugbo\, 7WV2+7PC Dr. Jose\, P. Rizal Street\, Cebu City\, Cebu\, 6000\, Philippines
CATEGORIES:Project
END:VEVENT
END:VCALENDAR